BEGIN:VCALENDAR
PRODID:-//Solspace/Calendar 2.x//EN
VERSION:2.0
CALSCALE:GREGORIAN
BEGIN:VEVENT
UID:6778e95fe2f17828f6a98ebbf8e5ca8d@solspace.com
DTSTAMP:20260421T084250
DTSTART:20260111T113000
DTEND:20260111T123000
SUMMARY:Seventh Grade Tour of the Oregon Jewish Museum and Center fo
 r Holocaust Education
END:VEVENT
END:VCALENDAR
