BEGIN:VCALENDAR
PRODID:-//Solspace/Calendar 2.x//EN
VERSION:2.0
CALSCALE:GREGORIAN
BEGIN:VEVENT
UID:5da947f6d710e891ddd873bde2f99d31@solspace.com
DTSTAMP:20260421T113730
DTSTART;VALUE=DATE:20251102
DTEND;VALUE=DATE:20251103
SUMMARY:No Religious School
END:VEVENT
END:VCALENDAR
