BEGIN:VCALENDAR
PRODID:-//Solspace/Calendar 2.x//EN
VERSION:2.0
CALSCALE:GREGORIAN
BEGIN:VEVENT
UID:8bc130f77ca60fe50893f5cb84b2a61a@solspace.com
DTSTAMP:20260421T113727
DTSTART;VALUE=DATE:20251123
DTEND;VALUE=DATE:20251124
RRULE:FREQ=WEEKLY;UNTIL=20251201T235959Z;INTERVAL=1;BYDAY=SU
SUMMARY:No Religious School
END:VEVENT
END:VCALENDAR
