BEGIN:VCALENDAR
PRODID:-//Solspace/Calendar 2.x//EN
VERSION:2.0
CALSCALE:GREGORIAN
BEGIN:VEVENT
UID:6b51fc188649d44f928aa10c2c23c024@solspace.com
DTSTAMP:20260421T100435
DTSTART;VALUE=DATE:20251221
DTEND;VALUE=DATE:20251222
RRULE:FREQ=WEEKLY;UNTIL=20260105T235959Z;INTERVAL=1;BYDAY=SU
SUMMARY:No Religious School
END:VEVENT
END:VCALENDAR
