BEGIN:VCALENDAR
PRODID:-//Solspace/Calendar 2.x//EN
VERSION:2.0
CALSCALE:GREGORIAN
BEGIN:VEVENT
UID:ded83521980ec38a81b10a0ae142ef54@solspace.com
DTSTAMP:20260421T100415
DTSTART:20251206T090000
DTEND:20251206T100000
RRULE:FREQ=DAILY;UNTIL=20260118T235959Z;INTERVAL=14
EXDATE:20250712T090000,20250719T090000,20250802T090000,20250816T090000,20250823T090000,20250906T090000,20250920T090000,20260103T090000
SUMMARY:Tot Shabbat
END:VEVENT
END:VCALENDAR
