BEGIN:VCALENDAR
PRODID:-//Solspace/Calendar 2.x//EN
VERSION:2.0
CALSCALE:GREGORIAN
BEGIN:VEVENT
UID:ddaae257e2602484293a2dfc7f51f4c6@solspace.com
DTSTAMP:20260421T130722
DTSTART:20251009T120000
DTEND:20251009T130000
SUMMARY:Interfaith Alliance On Poverty - October Meeting
END:VEVENT
END:VCALENDAR
