BEGIN:VCALENDAR
PRODID:-//Solspace/Calendar 2.x//EN
VERSION:2.0
CALSCALE:GREGORIAN
BEGIN:VEVENT
UID:b812d252289b32ed1584ed4c4b88811f@solspace.com
DTSTAMP:20260421T131009
DTSTART:20251012T180000
DTEND:20251012T200000
SUMMARY:Teen Dinner at Rabbi Cahana's House
END:VEVENT
END:VCALENDAR
