BEGIN:VCALENDAR
PRODID:-//Solspace/Calendar 2.x//EN
VERSION:2.0
CALSCALE:GREGORIAN
BEGIN:VEVENT
UID:541b5c0f5a096f5221acc6ea258b0f9c@solspace.com
DTSTAMP:20260421T130824
DTSTART;VALUE=DATE:20251012
DTEND;VALUE=DATE:20251013
SUMMARY:No High School Classes
END:VEVENT
END:VCALENDAR
