BEGIN:VCALENDAR
PRODID:-//Solspace/Calendar 2.x//EN
VERSION:2.0
CALSCALE:GREGORIAN
BEGIN:VEVENT
UID:10665afe75048f3d256e87016109e2c5@solspace.com
DTSTAMP:20260421T082905
DTSTART:20260111T180000
DTEND:20260111T190000
SUMMARY:Teen Dinner at Rabbi Joseph's House
END:VEVENT
END:VCALENDAR
