BEGIN:VCALENDAR
PRODID:-//Solspace/Calendar 2.x//EN
VERSION:2.0
CALSCALE:GREGORIAN
BEGIN:VEVENT
UID:03981059d2a30e9a27a215df416a8364@solspace.com
DTSTAMP:20260421T083008
DTSTART;VALUE=DATE:20260111
DTEND;VALUE=DATE:20260112
SUMMARY:No High School Classes
END:VEVENT
END:VCALENDAR
