BEGIN:VCALENDAR
PRODID:-//Solspace/Calendar 2.x//EN
VERSION:2.0
CALSCALE:GREGORIAN
BEGIN:VEVENT
UID:e3f6cb004d067fce5555a205edf4cf1d@solspace.com
DTSTAMP:20260421T084631
DTSTART:20260131T103000
DTEND:20260131T113000
SUMMARY:Bat Mitzvah of Sabina Di Yorio and Shabbat Moring Service
END:VEVENT
END:VCALENDAR
