BEGIN:VCALENDAR
PRODID:-//Solspace/Calendar 2.x//EN
VERSION:2.0
CALSCALE:GREGORIAN
BEGIN:VEVENT
UID:8de7dc5623cf152a3882c19be910e36c@solspace.com
DTSTAMP:20260421T144335
DTSTART:20250917T150000
DTEND:20250917T170000
SUMMARY:Early Closure for The Jennie
END:VEVENT
END:VCALENDAR
