BEGIN:VCALENDAR
PRODID:-//Solspace/Calendar 2.x//EN
VERSION:2.0
CALSCALE:GREGORIAN
BEGIN:VEVENT
UID:551be1fcba15b2b0a88edd92df1758f3@solspace.com
DTSTAMP:20260421T144341
DTSTART:20250922T120000
DTEND:20250922T150000
SUMMARY:Early Closure for The Jennie
END:VEVENT
END:VCALENDAR
