BEGIN:VCALENDAR
PRODID:-//Solspace/Calendar 2.x//EN
VERSION:2.0
CALSCALE:GREGORIAN
BEGIN:VEVENT
UID:9139f9d54b6694ced2772618655d3545@solspace.com
DTSTAMP:20260421T144122
DTSTART;VALUE=DATE:20250923
DTEND;VALUE=DATE:20250924
SUMMARY:The Jennie Closed for Rosh Hashanah
END:VEVENT
END:VCALENDAR
