BEGIN:VCALENDAR
PRODID:-//Solspace/Calendar 2.x//EN
VERSION:2.0
CALSCALE:GREGORIAN
BEGIN:VEVENT
UID:9b0bf97381426e512e520a9c533ae533@solspace.com
DTSTAMP:20260421T130840
DTSTART:20251001T120000
DTEND:20251001T170000
SUMMARY:Early Closure at the Jennie
END:VEVENT
END:VCALENDAR
