BEGIN:VCALENDAR
PRODID:-//Solspace/Calendar 2.x//EN
VERSION:2.0
CALSCALE:GREGORIAN
BEGIN:VEVENT
UID:5b2a3350dbac92e58c97e77a2a7a7a50@solspace.com
DTSTAMP:20260421T131009
DTSTART;VALUE=DATE:20251002
DTEND;VALUE=DATE:20251003
SUMMARY:The Jennie Closed for Yom Kippur
END:VEVENT
END:VCALENDAR
