BEGIN:VCALENDAR
PRODID:-//Solspace/Calendar 2.x//EN
VERSION:2.0
CALSCALE:GREGORIAN
BEGIN:VEVENT
UID:bea4196592f6d7c3f52303cb0e5c7418@solspace.com
DTSTAMP:20260421T131042
DTSTART:20251015T150000
DTEND:20251015T160000
SUMMARY:Early Closure for The Jennie
END:VEVENT
END:VCALENDAR
