BEGIN:VCALENDAR
PRODID:-//Solspace/Calendar 2.x//EN
VERSION:2.0
CALSCALE:GREGORIAN
BEGIN:VEVENT
UID:7b41d8c56b93f8ab3c211c9c8abe32cf@solspace.com
DTSTAMP:20260421T113728
DTSTART;VALUE=DATE:20251127
DTEND;VALUE=DATE:20251129
SUMMARY:The Jennie Closed for Thanksgiving
END:VEVENT
END:VCALENDAR
