BEGIN:VCALENDAR
PRODID:-//Solspace/Calendar 2.x//EN
VERSION:2.0
CALSCALE:GREGORIAN
BEGIN:VEVENT
UID:48f2b7f49dd0d75b8c2d173c8a2a3289@solspace.com
DTSTAMP:20260421T100436
DTSTART;VALUE=DATE:20251205
DTEND;VALUE=DATE:20251206
SUMMARY:The Jennie Closed for Parent-Teacher Conferences
END:VEVENT
END:VCALENDAR
