BEGIN:VCALENDAR
PRODID:-//Solspace/Calendar 2.x//EN
VERSION:2.0
CALSCALE:GREGORIAN
BEGIN:VEVENT
UID:546a0d9255c52e6632edad530e0723e8@solspace.com
DTSTAMP:20260421T100643
DTSTART:20251217T150000
DTEND:20251217T170000
SUMMARY:Early Closure at The Jennie
END:VEVENT
END:VCALENDAR
