BEGIN:VCALENDAR
PRODID:-//Solspace/Calendar 2.x//EN
VERSION:2.0
CALSCALE:GREGORIAN
BEGIN:VEVENT
UID:0da50c53dcb95a3b9d93149c58aac0df@solspace.com
DTSTAMP:20260421T084649
DTSTART;VALUE=DATE:20251225
DTEND;VALUE=DATE:20260103
SUMMARY:The Jennie Closed for Winter Break
END:VEVENT
END:VCALENDAR
