BEGIN:VCALENDAR
PRODID:-//Solspace/Calendar 2.x//EN
VERSION:2.0
CALSCALE:GREGORIAN
BEGIN:VEVENT
UID:fe0517a2394bd3149f224db61d8227fc@solspace.com
DTSTAMP:20260421T090339
DTSTART:20260110T170000
DTEND:20260110T200000
SUMMARY:January Date Night with BB Camp
END:VEVENT
END:VCALENDAR
