BEGIN:VCALENDAR
PRODID:-//Solspace/Calendar 2.x//EN
VERSION:2.0
CALSCALE:GREGORIAN
BEGIN:VEVENT
UID:8e1d7a7d5be987d059cf4aa003a88e62@solspace.com
DTSTAMP:20260421T131008
DTSTART:20251005T190000
DTEND:20251005T200000
SUMMARY:Light in the Face of Darkness: Stories of Courage from Octob
 er 7th
END:VEVENT
END:VCALENDAR
