BEGIN:VCALENDAR
PRODID:-//Solspace/Calendar 2.x//EN
VERSION:2.0
CALSCALE:GREGORIAN
BEGIN:VEVENT
UID:6953444915853242cde1da8f1f17fc25@solspace.com
DTSTAMP:20260421T144334
DTSTART:20250923T094500
DTEND:20250923T123000
SUMMARY:The Balcony Crew: Teens at Rosh Hashanah Morning Service
END:VEVENT
END:VCALENDAR
