BEGIN:VCALENDAR
PRODID:-//Solspace/Calendar 2.x//EN
VERSION:2.0
CALSCALE:GREGORIAN
BEGIN:VEVENT
UID:39a7a75ed95b7bd5dd71ad4f7212d736@solspace.com
DTSTAMP:20260421T130825
DTSTART:20251009T170000
DTEND:20251009T180000
SUMMARY:Voter Turnout Postcard Writing
END:VEVENT
END:VCALENDAR
