BEGIN:VCALENDAR
PRODID:-//Solspace/Calendar 2.x//EN
VERSION:2.0
CALSCALE:GREGORIAN
BEGIN:VEVENT
UID:b111b70bbdcd2fe2f5d54010612e07f6@solspace.com
DTSTAMP:20260421T113919
DTSTART:20251107T180000
DTEND:20251107T190000
SUMMARY:Remembrance Shabbat
END:VEVENT
END:VCALENDAR
