BEGIN:VCALENDAR
PRODID:-//Solspace/Calendar 2.x//EN
VERSION:2.0
CALSCALE:GREGORIAN
BEGIN:VEVENT
UID:5626453b0d2af71d53757db88e13c9b7@solspace.com
DTSTAMP:20260421T131038
DTSTART:20251019T190000
DTEND:20251019T200000
SUMMARY:Al Ha'Dvash Ve'Al Ha'Oketz - A Community Gathering to Mark 
 the Release of the Hostages
END:VEVENT
END:VCALENDAR
