BEGIN:VCALENDAR
PRODID:-//Solspace/Calendar 2.x//EN
VERSION:2.0
CALSCALE:GREGORIAN
BEGIN:VEVENT
UID:85e94eb8c6ee1650c13d74b5e1b40107@solspace.com
DTSTAMP:20260421T113816
DTSTART:20251112T190000
DTEND:20251112T201500
SUMMARY:IDEA Committee Meeting
END:VEVENT
END:VCALENDAR
