BEGIN:VCALENDAR
PRODID:-//Solspace/Calendar 2.x//EN
VERSION:2.0
CALSCALE:GREGORIAN
BEGIN:VEVENT
UID:9b770c1c3b510ad8e821cd2afd534152@solspace.com
DTSTAMP:20260421T131008
DTSTART:20251027T190000
DTEND:20251027T193000
SUMMARY:Q&A: Teens in LA
END:VEVENT
END:VCALENDAR
