BEGIN:VCALENDAR
PRODID:-//Solspace/Calendar 2.x//EN
VERSION:2.0
CALSCALE:GREGORIAN
BEGIN:VEVENT
UID:503df12f04113a683242b12e387cdb7f@solspace.com
DTSTAMP:20260421T130906
DTSTART:20251024T180000
DTEND:20251024T193000
SUMMARY:Shabbat Evening Service and Wedding Blessing of David Cahana
  and Jessica Maung
END:VEVENT
END:VCALENDAR
