BEGIN:VCALENDAR
PRODID:-//Solspace/Calendar 2.x//EN
VERSION:2.0
CALSCALE:GREGORIAN
BEGIN:VEVENT
UID:72552141ecdac7fc87feaf596c3ffc74@solspace.com
DTSTAMP:20260421T113817
DTSTART:20251101T170000
DTEND:20251101T183000
SUMMARY:Havdalah Bar Mitzvah of Ayden Roitstein
END:VEVENT
END:VCALENDAR
