BEGIN:VCALENDAR
PRODID:-//Solspace/Calendar 2.x//EN
VERSION:2.0
CALSCALE:GREGORIAN
BEGIN:VEVENT
UID:96a50fbc9ebe68a41a46ccd81152713f@solspace.com
DTSTAMP:20260421T100240
DTSTART:20251213T170000
DTEND:20251213T200000
SUMMARY:Teen PARTY and Mitzvah Night
END:VEVENT
END:VCALENDAR
