BEGIN:VCALENDAR
PRODID:-//Solspace/Calendar 2.x//EN
VERSION:2.0
CALSCALE:GREGORIAN
BEGIN:VEVENT
UID:0584ce86bcef222e50affd39c9f7cbe8@solspace.com
DTSTAMP:20260421T100603
DTSTART:20251214T140000
DTEND:20251214T160000
SUMMARY:Latkes and Vodkas
END:VEVENT
END:VCALENDAR
