BEGIN:VCALENDAR
PRODID:-//Solspace/Calendar 2.x//EN
VERSION:2.0
CALSCALE:GREGORIAN
BEGIN:VEVENT
UID:89bcd2c98f9e53b0d921a154fe6073c9@solspace.com
DTSTAMP:20260421T113815
DTSTART:20251102T160000
DTEND:20251102T180000
SUMMARY:The 60th Anniversary of Nostra Aetate: a Transformation of J
 ewish-Catholic Relations
END:VEVENT
END:VCALENDAR
