BEGIN:VCALENDAR
PRODID:-//Solspace/Calendar 2.x//EN
VERSION:2.0
CALSCALE:GREGORIAN
BEGIN:VEVENT
UID:2db0aa3a080f984c3594d97773a9a6bd@solspace.com
DTSTAMP:20260421T100312
DTSTART:20251214T120000
DTEND:20251214T140000
SUMMARY:People Who Serve: Jessica Anderson
END:VEVENT
END:VCALENDAR
