BEGIN:VCALENDAR
PRODID:-//Solspace/Calendar 2.x//EN
VERSION:2.0
CALSCALE:GREGORIAN
BEGIN:VEVENT
UID:5126ded0bd9c9e1edb2c7d34ac696222@solspace.com
DTSTAMP:20260421T113917
DTSTART:20251113T180000
DTEND:20251113T190000
SUMMARY:Brotherhood Board Meeting
END:VEVENT
END:VCALENDAR
