BEGIN:VCALENDAR
PRODID:-//Solspace/Calendar 2.x//EN
VERSION:2.0
CALSCALE:GREGORIAN
BEGIN:VEVENT
UID:af461b2dc0d4958981ef05ab6f88ebfd@solspace.com
DTSTAMP:20260421T100430
DTSTART:20251203T183000
DTEND:20251203T193000
SUMMARY:The Beloved Community: a Vision Worth Striving For
END:VEVENT
END:VCALENDAR
