BEGIN:VCALENDAR
PRODID:-//Solspace/Calendar 2.x//EN
VERSION:2.0
CALSCALE:GREGORIAN
BEGIN:VEVENT
UID:e45442263c16c8b0846069d200ed3470@solspace.com
DTSTAMP:20260421T100442
DTSTART:20251207T100000
DTEND:20251207T110000
SUMMARY:CBI Book Club - December Meeting
END:VEVENT
END:VCALENDAR
