BEGIN:VCALENDAR
PRODID:-//Solspace/Calendar 2.x//EN
VERSION:2.0
CALSCALE:GREGORIAN
BEGIN:VEVENT
UID:3d7304ea43b1c5990adb3f4f28a5ee96@solspace.com
DTSTAMP:20260423T082649
DTSTART:20260108T120000
DTEND:20260108T130000
SUMMARY:Interfaith Alliance On Poverty - January Meeting
END:VEVENT
END:VCALENDAR
