BEGIN:VCALENDAR
PRODID:-//Solspace/Calendar 2.x//EN
VERSION:2.0
CALSCALE:GREGORIAN
BEGIN:VEVENT
UID:2545df69222e4eb43846e58d790a970c@solspace.com
DTSTAMP:20260421T084532
DTSTART:20260128T140000
DTEND:20260128T150000
SUMMARY:Sisterhood New Membership Schmooze
END:VEVENT
END:VCALENDAR
