BEGIN:VCALENDAR
PRODID:-//Solspace/Calendar 2.x//EN
VERSION:2.0
CALSCALE:GREGORIAN
BEGIN:VEVENT
UID:ebd41120ca2346790495c0662f9374bc@solspace.com
DTSTAMP:20260421T084250
DTSTART:20260120T180000
DTEND:20260120T190000
SUMMARY:Sisterhood Social Hour
END:VEVENT
END:VCALENDAR
