BEGIN:VCALENDAR
PRODID:-//Solspace/Calendar 2.x//EN
VERSION:2.0
CALSCALE:GREGORIAN
BEGIN:VEVENT
UID:22f08f8a2ce67a1c68e1d5d3342be7c7@solspace.com
DTSTAMP:20260421T084500
DTSTART;VALUE=DATE:20260119
DTEND;VALUE=DATE:20260120
SUMMARY:The Jennie Closed for Rev. Dr. Martin Luther King\, Jr. Day
END:VEVENT
END:VCALENDAR
