BEGIN:VCALENDAR
PRODID:-//Solspace/Calendar 2.x//EN
VERSION:2.0
CALSCALE:GREGORIAN
BEGIN:VEVENT
UID:8d3100c80fefc34cb0b5763c19bf2867@solspace.com
DTSTAMP:20260421T113114
DTSTART;VALUE=DATE:20260907
DTEND;VALUE=DATE:20260908
SUMMARY:The Jennie Closed for Labor Day
END:VEVENT
END:VCALENDAR
