BEGIN:VCALENDAR
PRODID:-//Solspace/Calendar 2.x//EN
VERSION:2.0
CALSCALE:GREGORIAN
BEGIN:VEVENT
UID:fb8a3e35054e4b7f8702aa831c73f3f4@solspace.com
DTSTAMP:20260421T130724
DTSTART;VALUE=DATE:20260921
DTEND;VALUE=DATE:20260922
SUMMARY:The Jennie Closed for Yom Kippur
END:VEVENT
END:VCALENDAR
