BEGIN:VCALENDAR
PRODID:-//Solspace/Calendar 2.x//EN
VERSION:2.0
CALSCALE:GREGORIAN
BEGIN:VEVENT
UID:9119bb7839ccae1beb38e5c9fff313e5@solspace.com
DTSTAMP:20260421T162032
DTSTART;VALUE=DATE:20261225
DTEND;VALUE=DATE:20270102
SUMMARY:The Jennie Closed for Winter Break
END:VEVENT
END:VCALENDAR
