BEGIN:VCALENDAR
PRODID:-//Solspace/Calendar 2.x//EN
VERSION:2.0
CALSCALE:GREGORIAN
BEGIN:VEVENT
UID:f1ccab8cd50e932db16b992d10973ed0@solspace.com
DTSTAMP:20260421T161841
DTSTART:20261106T120000
DTEND:20261106T170000
SUMMARY:12:00 PM Early Release for The Jennie
END:VEVENT
END:VCALENDAR
