BEGIN:VCALENDAR
PRODID:-//Solspace/Calendar 2.x//EN
VERSION:2.0
CALSCALE:GREGORIAN
BEGIN:VEVENT
UID:0d8838d6d7cd46dd964047d80ff29ff6@solspace.com
DTSTAMP:20260421T161842
DTSTART:20261125T120000
DTEND:20261125T170000
SUMMARY:12:00 PM Early Release for The Jennie
END:VEVENT
END:VCALENDAR
