BEGIN:VCALENDAR
PRODID:-//Solspace/Calendar 2.x//EN
VERSION:2.0
CALSCALE:GREGORIAN
BEGIN:VEVENT
UID:77e037222d58bf6a11fc67779ceef211@solspace.com
DTSTAMP:20260421T180129
DTSTART:20261224T120000
DTEND:20261224T170000
SUMMARY:12:00 PM Early Release for The Jennie
END:VEVENT
END:VCALENDAR
