BEGIN:VCALENDAR
PRODID:-//Solspace/Calendar 2.x//EN
VERSION:2.0
CALSCALE:GREGORIAN
BEGIN:VEVENT
UID:9a9a4f5cd37b5bb5bf9e8f9fc3ef790c@solspace.com
DTSTAMP:20260421T162032
DTSTART;VALUE=DATE:20261211
DTEND;VALUE=DATE:20261212
SUMMARY:Parent-Teacher Conferences at The Jennie
END:VEVENT
END:VCALENDAR
