BEGIN:VCALENDAR
PRODID:-//Solspace/Calendar 2.x//EN
VERSION:2.0
CALSCALE:GREGORIAN
BEGIN:VEVENT
UID:a98f7ca4b077dd0a4b8ba8f903eed596@solspace.com
DTSTAMP:20260421T100610
DTSTART:20251205T180000
DTEND:20251205T190000
SUMMARY:Lift UP Shabbat
END:VEVENT
END:VCALENDAR
